BEGIN:VCALENDAR
VERSION:2.0
PRODID:-//JB McGuire-Dix-Lakehurst - ECPv6.15.20//NONSGML v1.0//EN
CALSCALE:GREGORIAN
METHOD:PUBLISH
X-WR-CALNAME:JB McGuire-Dix-Lakehurst
X-ORIGINAL-URL:https://gomdl.com
X-WR-CALDESC:Events for JB McGuire-Dix-Lakehurst
REFRESH-INTERVAL;VALUE=DURATION:PT1H
X-Robots-Tag:noindex
X-PUBLISHED-TTL:PT1H
BEGIN:VTIMEZONE
TZID:UTC
BEGIN:STANDARD
TZOFFSETFROM:+0000
TZOFFSETTO:+0000
TZNAME:UTC
DTSTART:20250101T000000
END:STANDARD
END:VTIMEZONE
BEGIN:VEVENT
DTSTART;TZID=UTC:20260417T110000
DTEND;TZID=UTC:20260417T130000
DTSTAMP:20260423T231213
CREATED:20251125T204633Z
LAST-MODIFIED:20251125T204633Z
UID:10004092-1776423600-1776430800@gomdl.com
SUMMARY:Homeschool Bowling Program
DESCRIPTION:Friday\, Jan 9-Feb 27 -11:00 am at 87FSS Dix Bowling Center\, 6054 Doughboy Loop\, JBMDL Dix. \nBack by popular request.  Fulfill your Physical Education Requirement?  Did you know playing 3 games of bowling is the equivalent of walking 1 mile. Bowling is challenging\, mentally stimulating\, competitive\, fun\, and cost effective.  For just $10 per child each week\, each child will receive 15 minutes of instruction\, 2 games with shoe rental each week.  All children that complete all 8 weeks of the program will receive a completion certificate as well as being entered into a drawing for a free ball\, bag\, and ball drilling. \nFor more information you can contact us at 87FSS.FSCBD.DixBowlingInfo@us.af.mil or call us at 609-562-6895.
URL:https://gomdl.com/event/homeschool-bowling-program/2026-04-17/
LOCATION:FSS Bowling Center Dix\, 6054 Doughboy Loop\, JBMDL Dix\, NJ\, 08641
CATEGORIES:Bowling,Bowling Center Dix,Dix,Fun,Youth
ATTACH;FMTTYPE=image/png:https://gomdl.com/wp-content/uploads/2025/01/Jan_Bowling_Center_Dix_Homeschool_Bowling_2024_12_10_EC.png
END:VEVENT
BEGIN:VEVENT
DTSTART;TZID=UTC:20260417T170000
DTEND;TZID=UTC:20260417T183000
DTSTAMP:20260423T231213
CREATED:20260311T053627Z
LAST-MODIFIED:20260311T053628Z
UID:10006636-1776445200-1776450600@gomdl.com
SUMMARY:Paint & Sip: Easy-Peasy Hydrangeas
DESCRIPTION:Create a lovely hydrangea painting on wood with cute honeybees\, while enjoying a cocktail or two. You will leave with a one-of-a-kind creation and perhaps a newfound talent you would like to explore. \n5:00pm-7:00pm\, Mulligans Restaurant\, Fountain Green Golf Course\, JBMDL Dix \nFood and drink can be purchased at Mulligans. Must be 18 years of age.\nCost $40 per person. Participants must prepay for the event. \nCall Arts & Crafts at 609.562.5691 to register.
URL:https://gomdl.com/event/paint-sip-easy-peasy-hydrangeas/
LOCATION:Mulligans Restaurant @ Fountain Green Golf\, 3152 Pemberton-Wrightstown Rd\, JBMDL Dix\, NJ\, 08640\, United States
CATEGORIES:Arts & Crafts,Mulligan's
ATTACH;FMTTYPE=image/jpeg:https://gomdl.com/wp-content/uploads/2026/03/Apr_Paint_Sip_2026_01_29_EC.jpg
END:VEVENT
END:VCALENDAR