BEGIN:VCALENDAR
VERSION:2.0
PRODID:-//JB McGuire-Dix-Lakehurst - ECPv6.15.20//NONSGML v1.0//EN
CALSCALE:GREGORIAN
METHOD:PUBLISH
X-WR-CALNAME:JB McGuire-Dix-Lakehurst
X-ORIGINAL-URL:https://gomdl.com
X-WR-CALDESC:Events for JB McGuire-Dix-Lakehurst
REFRESH-INTERVAL;VALUE=DURATION:PT1H
X-Robots-Tag:noindex
X-PUBLISHED-TTL:PT1H
BEGIN:VTIMEZONE
TZID:UTC
BEGIN:STANDARD
TZOFFSETFROM:+0000
TZOFFSETTO:+0000
TZNAME:UTC
DTSTART:20250101T000000
END:STANDARD
END:VTIMEZONE
BEGIN:VEVENT
DTSTART;TZID=UTC:20260420T090000
DTEND;TZID=UTC:20260420T100000
DTSTAMP:20260420T031747
CREATED:20260218T210514Z
LAST-MODIFIED:20260401T191549Z
UID:10006598-1776675600-1776679200@gomdl.com
SUMMARY:Sponsorship 101
DESCRIPTION:9:00am – 10:00am\, Military & Family Readiness Center\, 3435 Broidy Rd.\, JBMDL McGuire \nWant to pay it forward and enhance the relocation process for newly assigned members and families? This workshop is for you! Attendees will receive access to JBMDL’s Electronic Sponsorship Packet\, which contains instructions and support. This training is required for Unit Sponsorship Program Monitors and optional for Sponsors. However\, both must complete eSAT training before performing sponsorship duties. \nRegister by calling the Military & Family Readiness Center at 609.754.3154.
URL:https://gomdl.com/event/sponsorship-101-7/
LOCATION:FSS Military & Family Readiness Center\, 3435 Broidy Road\, JBMDL McGuire\, NJ\, 08641
CATEGORIES:McGuire,Military and Family Readiness Center
END:VEVENT
BEGIN:VEVENT
DTSTART;TZID=UTC:20260420T150000
DTEND;TZID=UTC:20260420T173000
DTSTAMP:20260420T031747
CREATED:20251126T132429Z
LAST-MODIFIED:20251126T132429Z
UID:10005178-1776697200-1776706200@gomdl.com
SUMMARY:Swim Lessons Mondays and Wednesdays
DESCRIPTION:3:00 pm – 5:30 pm – Indoor Pool\, Bldg. 5901 Doughboy Loop JBMDL Dix \nEight 30-minute sessions will take place on Mondays and Wednesdays or Tuesday and Thursday. Lessons are for ages 6 months to adults. \nStop by the Indoor Pool or give us a call at 609.562.2808 to get more information. Registration will start on Dec 15 \nLessons are $145 per person
URL:https://gomdl.com/event/swim-lessons-mondays-and-wednesdays/2026-04-20/
LOCATION:FSS Indoor Pool\, 5901 Doughboy Loop\, JBMDL Dix\, NJ\, 08640
CATEGORIES:Aquatics,Dix
ATTACH;FMTTYPE=image/jpeg:https://gomdl.com/wp-content/uploads/2025/09/Swim-Lessons.jpg
END:VEVENT
END:VCALENDAR