BEGIN:VCALENDAR
VERSION:2.0
PRODID:-//JB McGuire-Dix-Lakehurst - ECPv6.15.20//NONSGML v1.0//EN
CALSCALE:GREGORIAN
METHOD:PUBLISH
X-WR-CALNAME:JB McGuire-Dix-Lakehurst
X-ORIGINAL-URL:https://gomdl.com
X-WR-CALDESC:Events for JB McGuire-Dix-Lakehurst
REFRESH-INTERVAL;VALUE=DURATION:PT1H
X-Robots-Tag:noindex
X-PUBLISHED-TTL:PT1H
BEGIN:VTIMEZONE
TZID:UTC
BEGIN:STANDARD
TZOFFSETFROM:+0000
TZOFFSETTO:+0000
TZNAME:UTC
DTSTART:20250101T000000
END:STANDARD
END:VTIMEZONE
BEGIN:VEVENT
DTSTART;TZID=UTC:20260423T100000
DTEND;TZID=UTC:20260423T103000
DTSTAMP:20260423T085936
CREATED:20260210T193559Z
LAST-MODIFIED:20260416T180625Z
UID:10006509-1776938400-1776940200@gomdl.com
SUMMARY:Family Story Time
DESCRIPTION:Bring your little ones for a fun and engaging Story Time experience! Designed for families with children ages 5 and under\, each session features a new theme filled with stories\, jokes\, poems\, and interactive fun that sparks imagination and a love of reading. \nIt’s the perfect way to enjoy quality time together while introducing young minds to the magic of books. \n📞 Questions? Call 609-754-2079
URL:https://gomdl.com/event/family-story-time-6/2026-04-23/
LOCATION:FSS Library\, 2603 W Tuskegee Airmen Ave\, JBMDL McGuire\, NJ\, 08641
CATEGORIES:Library,McGuire
ATTACH;FMTTYPE=image/jpeg:https://gomdl.com/wp-content/uploads/2024/09/Copy-of-Copy-of-OCTOBER-.jpg
END:VEVENT
BEGIN:VEVENT
DTSTART;TZID=UTC:20260423T110000
DTEND;TZID=UTC:20260423T113000
DTSTAMP:20260423T085936
CREATED:20251125T205412Z
LAST-MODIFIED:20251125T205412Z
UID:10004214-1776942000-1776943800@gomdl.com
SUMMARY:3–5-year-old Home School Pottery Class
DESCRIPTION:11:00-11:30 AM\, Arts and Crafts Center \nPreschool pottery class for children ages 3–5-year-olds; we will explore and create with clay. Limited space available \nRegister at 609-562-5771 \n$40 per child\, supplies included
URL:https://gomdl.com/event/3-5-year-old-home-school-pottery-class/2026-04-23/
LOCATION:FSS Arts & Crafts Center\, 6039 Philadelphia St\, JBMDL Dix\, NJ\, 08640
CATEGORIES:Arts & Crafts,Dix,Fun,Youth
END:VEVENT
BEGIN:VEVENT
DTSTART;TZID=UTC:20260423T114500
DTEND;TZID=UTC:20260423T124500
DTSTAMP:20260423T085936
CREATED:20251125T210141Z
LAST-MODIFIED:20251125T210141Z
UID:10004454-1776944700-1776948300@gomdl.com
SUMMARY:6–9-year-old Home School Pottery Class
DESCRIPTION:11:45-12:45 PM\, Arts and Crafts Center \nSchool-Age pottery class for children ages 6–9-year-olds; we will explore and create with clay with basic and advanced hand-building techniques. Limited space available \nRegister at 609-562-5771 \n$80 per child\, supplies included
URL:https://gomdl.com/event/6-9-year-old-home-school-pottery-class/2026-04-23/
LOCATION:FSS Arts & Crafts Center\, 6039 Philadelphia St\, JBMDL Dix\, NJ\, 08640
CATEGORIES:Arts & Crafts,Dix,Youth
END:VEVENT
BEGIN:VEVENT
DTSTART;TZID=UTC:20260423T120000
DTEND;TZID=UTC:20260423T124500
DTSTAMP:20260423T085936
CREATED:20251125T211946Z
LAST-MODIFIED:20251125T212102Z
UID:10005018-1776945600-1776948300@gomdl.com
SUMMARY:Aqua Fit
DESCRIPTION:12:00pm – 12:45pm\, FSS Indoor Pool\, Bldg. 5901 Doughboy Loop\, JBMDL Dix \nCome workout during lunch. Water workout. Low impact using aerobic\, strength and toning exercises.  No swimming experience needed. Classes will be held on Tuesdays and Thursdays for 45 minutes. \nCost will be $4 a class.  \n609.562.2808.
URL:https://gomdl.com/event/aqua-fit/2026-04-23/
LOCATION:FSS Indoor Pool\, 5901 Doughboy Loop\, JBMDL Dix\, NJ\, 08640
CATEGORIES:Aquatics,Dix,Family
ATTACH;FMTTYPE=image/jpeg:https://gomdl.com/wp-content/uploads/2025/09/Aqua-Fit.jpg
END:VEVENT
BEGIN:VEVENT
DTSTART;TZID=UTC:20260423T130000
DTEND;TZID=UTC:20260423T143000
DTSTAMP:20260423T085936
CREATED:20251125T210546Z
LAST-MODIFIED:20251125T210546Z
UID:10004694-1776949200-1776954600@gomdl.com
SUMMARY:10+ year old Home School Pottery Class
DESCRIPTION:1:00-2:30 PM\, Arts and Crafts Center \nPreteen / Teenage pottery class for children ages 10+ year olds; we will explore and create with clay with basic and advanced hand-building techniques and basic wheel throwing. Limited space available \nRegister at 609-562-5771 \n$120 per child\, supplies included
URL:https://gomdl.com/event/10-year-old-home-school-pottery-class/2026-04-23/
LOCATION:FSS Arts & Crafts Center\, 6039 Philadelphia St\, JBMDL Dix\, NJ\, 08640
CATEGORIES:Arts & Crafts,Dix,Youth
END:VEVENT
BEGIN:VEVENT
DTSTART;TZID=UTC:20260423T150000
DTEND;TZID=UTC:20260423T173000
DTSTAMP:20260423T085936
CREATED:20251126T132729Z
LAST-MODIFIED:20251126T132729Z
UID:10005404-1776956400-1776965400@gomdl.com
SUMMARY:Swim Lessons Tuesday and Thursday
DESCRIPTION:3:00 pm – 5:30 pm – Indoor Pool\, Bldg. 5901 Doughboy Loop JBMDL Dix \nEight 30-minute sessions will take place on Mondays and Wednesdays or Tuesday and Thursday. Lessons are for ages 6 months to adults. \nStop by the Indoor Pool or give us a call at 609.562.2808 to get more information. Registration will start on Dec 15 \nLessons are $145 per person
URL:https://gomdl.com/event/swim-lessons-tuesday-and-thursday/2026-04-23/
LOCATION:FSS Indoor Pool\, 5901 Doughboy Loop\, JBMDL Dix\, NJ\, 08640
CATEGORIES:Aquatics,Dix
ATTACH;FMTTYPE=image/jpeg:https://gomdl.com/wp-content/uploads/2025/09/Swim-Lessons.jpg
END:VEVENT
BEGIN:VEVENT
DTSTART;TZID=UTC:20260423T173000
DTEND;TZID=UTC:20260423T193000
DTSTAMP:20260423T085936
CREATED:20260210T151658Z
LAST-MODIFIED:20260210T151658Z
UID:10006389-1776965400-1776972600@gomdl.com
SUMMARY:Printmaking for Beginners
DESCRIPTION:Thursdays\, March 5-26 (4 weeks)\, 5:30pm-7:30pm\, Arts & Crafts Center (Dix) \nLearn how to utilize and apply the basic techniques of Linoleum cutting and printing. Create beautiful handmade greeting cards or a lovely print to frame. Pre- registration required. \nAges 13 & up $45; materials included. \n609.562.5691 to register.
URL:https://gomdl.com/event/printmaking-for-beginners/2026-04-23/
LOCATION:FSS Arts & Crafts Center\, 6039 Philadelphia St\, JBMDL Dix\, NJ\, 08640
CATEGORIES:Arts & Crafts,Dix,Fun
END:VEVENT
BEGIN:VEVENT
DTSTART;TZID=UTC:20260424T090000
DTEND;TZID=UTC:20260424T133000
DTSTAMP:20260423T085936
CREATED:20251205T195915Z
LAST-MODIFIED:20260401T200042Z
UID:10006281-1777021200-1777037400@gomdl.com
SUMMARY:Heart Link
DESCRIPTION:9:00am – 1:30pm\, Military & Family Readiness Center\, 3435 Broidy Rd.\, JBMDL McGuire \nAre you a spouse new to the military or JB MDL? Are you a military spouse interested in learning about available base and local resources? This workshop will give you the tools to understand the military lifestyle\, customs\, and traditions. You will also gain information on benefits for you and your family\, including spouse employment\, Tricare\, and Emergency Financial Relief. \nPre-registration is required by calling the Military & Family Readiness Center at 609.754.3154.
URL:https://gomdl.com/event/heart-link/
LOCATION:FSS Military & Family Readiness Center\, 3435 Broidy Road\, JBMDL McGuire\, NJ\, 08641
CATEGORIES:McGuire,Military and Family Readiness Center
END:VEVENT
BEGIN:VEVENT
DTSTART;TZID=UTC:20260424T110000
DTEND;TZID=UTC:20260424T130000
DTSTAMP:20260423T085936
CREATED:20251125T204633Z
LAST-MODIFIED:20251125T204633Z
UID:10004093-1777028400-1777035600@gomdl.com
SUMMARY:Homeschool Bowling Program
DESCRIPTION:Friday\, Jan 9-Feb 27 -11:00 am at 87FSS Dix Bowling Center\, 6054 Doughboy Loop\, JBMDL Dix. \nBack by popular request.  Fulfill your Physical Education Requirement?  Did you know playing 3 games of bowling is the equivalent of walking 1 mile. Bowling is challenging\, mentally stimulating\, competitive\, fun\, and cost effective.  For just $10 per child each week\, each child will receive 15 minutes of instruction\, 2 games with shoe rental each week.  All children that complete all 8 weeks of the program will receive a completion certificate as well as being entered into a drawing for a free ball\, bag\, and ball drilling. \nFor more information you can contact us at 87FSS.FSCBD.DixBowlingInfo@us.af.mil or call us at 609-562-6895.
URL:https://gomdl.com/event/homeschool-bowling-program/2026-04-24/
LOCATION:FSS Bowling Center Dix\, 6054 Doughboy Loop\, JBMDL Dix\, NJ\, 08641
CATEGORIES:Bowling,Bowling Center Dix,Dix,Fun,Youth
ATTACH;FMTTYPE=image/png:https://gomdl.com/wp-content/uploads/2025/01/Jan_Bowling_Center_Dix_Homeschool_Bowling_2024_12_10_EC.png
END:VEVENT
BEGIN:VEVENT
DTSTART;TZID=UTC:20260424T160000
DTEND;TZID=UTC:20260424T183000
DTSTAMP:20260423T085936
CREATED:20260401T195627Z
LAST-MODIFIED:20260422T202204Z
UID:10006751-1777046400-1777055400@gomdl.com
SUMMARY:Handmade Blossoms
DESCRIPTION:6:00 pm – 7:30 pm at 87 FSS Youth Programs Dix Bldg. 691 Juliustown Rd.\, JBMDl Dix. \nJoin us for a fun and creative flower-making event! Learn simple techniques to craft beautiful blooms from paper and other materials. Perfect for all ages—no experience needed\, bring your imagination! Youth Ages: 7 – 18. \nNo cost. \nTo register\, Youth Programs members Sign up in CYPBMS. Youth programs Non -members create a CYPBMS account by contacting us 609.562.5437 or email 87FSS.JBMDL.YouthProgramDix@us.af.mil with a non-government email.
URL:https://gomdl.com/event/handmade-blossoms/
LOCATION:FSS Youth Programs McGuire\, 3830 E Scott St (Falcon Courts North)\, JBMDL McGuire\, NJ\, 08641
CATEGORIES:Family,Fun,McGuire,Youth,Youth Programs
ATTACH;FMTTYPE=image/jpeg:https://gomdl.com/wp-content/uploads/2026/04/Handmade_Blossoms_Web.jpg
END:VEVENT
BEGIN:VEVENT
DTSTART;TZID=UTC:20260425T090000
DTEND;TZID=UTC:20260425T113000
DTSTAMP:20260423T085936
CREATED:20251126T133123Z
LAST-MODIFIED:20251126T133123Z
UID:10005614-1777107600-1777116600@gomdl.com
SUMMARY:Swim Lessons
DESCRIPTION:9:00 – 11:30 am – Indoor Pool\, Bldg. 5901 Doughboy Loop JBMDL Dix \nEight 30-minute sessions will take place on Saturdays. Lessons are for ages 6 months to adults. \nStop by the Indoor Pool or give us a call at 609.562.2808 to get more information. Registration will start on Dec 15 \nLessons are $145 per person
URL:https://gomdl.com/event/swim-lessons/2026-04-25/
LOCATION:FSS Indoor Pool\, 5901 Doughboy Loop\, JBMDL Dix\, NJ\, 08640
CATEGORIES:Aquatics,Dix
ATTACH;FMTTYPE=image/jpeg:https://gomdl.com/wp-content/uploads/2025/09/Swim-Lessons.jpg
END:VEVENT
BEGIN:VEVENT
DTSTART;TZID=UTC:20260426T160000
DTEND;TZID=UTC:20260426T180000
DTSTAMP:20260423T085936
CREATED:20260402T182447Z
LAST-MODIFIED:20260417T143149Z
UID:10006754-1777219200-1777226400@gomdl.com
SUMMARY:Family Bingo Fun Snow-nami Recovery
DESCRIPTION:4:00pm; 87FSS Dix Bowling Center\, 6054 Doughboy Loop\, Joint Base MDL NJ 0864 \nCome out and join us on Sunday\, April 26\, 2026 for some Bingo fun. Bingo Boards go on sale at 3PM. 4:00 PM Bingo calling begins. Warm up those vocal cords because BINGO is coming! \nCost of admission is just $25 per person. $5 early registration discount if registered 24 hours prior to the Bingo day. This includes your book of 10 game cards. Additional game books can be purchased for just $10 per book.  \nWin great prizes! For example: Exchange Gift Cards\, Lego Kits\, Nintendo Switch\, Gaming Head Set\, Medieval Times Tickets\, Movie Tickets\, etc. All ages are welcome but\, a parent must be present for ages under 18. Enjoy our Pizza Buffet starting at 4pm in the Spare Room Lounge for $6 per child 12 and under\nand $10 per adult 13 and over. The Spare Room Lounge will be open for all your food and drink needs. You can contact us at 87FSS.FSCBD.DixBowlingInfo@us.af.mil or call 609-562-6895 for more information.
URL:https://gomdl.com/event/family-bingo-fun-snow-nami-recovery/
LOCATION:FSS Bowling Center Dix\, 6054 Doughboy Loop\, JBMDL Dix\, NJ\, 08641
CATEGORIES:Bingo,Bowling Center Dix,Dix,Food,Fun,Hot Events,The Spare Room Lounge
ATTACH;FMTTYPE=image/png:https://gomdl.com/wp-content/uploads/2026/04/Snow_Nami-Bingo_2026_04_01_EC2.png
END:VEVENT
BEGIN:VEVENT
DTSTART;TZID=UTC:20260427T090000
DTEND;TZID=UTC:20260427T110000
DTSTAMP:20260423T085936
CREATED:20260218T210652Z
LAST-MODIFIED:20260401T201514Z
UID:10006599-1777280400-1777287600@gomdl.com
SUMMARY:First Duty Station-Officers
DESCRIPTION:9:00am – 11:00am\, Military & Family Readiness Center\, 3435 Broidy Rd.\, JBMDL McGuire \nThis workshop is mandatory for Officers arriving at their First Duty Station. The course covers basic financial information such as reading the LES\, TSP\, investing and savings\, credit\, and more. \nPre-registration is required by calling the Military & Family Readiness Center at 609.754.3154
URL:https://gomdl.com/event/first-duty-station-officers-4/
LOCATION:FSS Military & Family Readiness Center\, 3435 Broidy Road\, JBMDL McGuire\, NJ\, 08641
CATEGORIES:McGuire,Military and Family Readiness Center
END:VEVENT
BEGIN:VEVENT
DTSTART;TZID=UTC:20260427T150000
DTEND;TZID=UTC:20260427T173000
DTSTAMP:20260423T085936
CREATED:20251126T132429Z
LAST-MODIFIED:20251126T132429Z
UID:10005180-1777302000-1777311000@gomdl.com
SUMMARY:Swim Lessons Mondays and Wednesdays
DESCRIPTION:3:00 pm – 5:30 pm – Indoor Pool\, Bldg. 5901 Doughboy Loop JBMDL Dix \nEight 30-minute sessions will take place on Mondays and Wednesdays or Tuesday and Thursday. Lessons are for ages 6 months to adults. \nStop by the Indoor Pool or give us a call at 609.562.2808 to get more information. Registration will start on Dec 15 \nLessons are $145 per person
URL:https://gomdl.com/event/swim-lessons-mondays-and-wednesdays/2026-04-27/
LOCATION:FSS Indoor Pool\, 5901 Doughboy Loop\, JBMDL Dix\, NJ\, 08640
CATEGORIES:Aquatics,Dix
ATTACH;FMTTYPE=image/jpeg:https://gomdl.com/wp-content/uploads/2025/09/Swim-Lessons.jpg
END:VEVENT
BEGIN:VEVENT
DTSTART;TZID=UTC:20260428T113000
DTEND;TZID=UTC:20260428T130000
DTSTAMP:20260423T085936
CREATED:20260401T202635Z
LAST-MODIFIED:20260402T165102Z
UID:10006752-1777375800-1777381200@gomdl.com
SUMMARY:Neon 5k Bringing Back the 80’s
DESCRIPTION:11:30am – 1:00pm\, 87FSS Fitness Center Lakehurst\, Bldg. 123. \nWho doesn’t love neon? Dress in all the bright colors… kind of like a highlighter! The brighter the color the better. Let’s light up the road! Medals awarded for top three ﬁnishers\, male and female military\, and civilian categories. Same day registration. \n732.323.7266
URL:https://gomdl.com/event/neon-5k-bringing-back-the-80s/
LOCATION:FSS Fitness Center Lakehurst\, 123 Severyns Rd\, JBMDL Lakehurst\, NJ\, 08733
CATEGORIES:Fitness,Fun,Hot Events,Lakehurst
ATTACH;FMTTYPE=image/jpeg:https://gomdl.com/wp-content/uploads/2026/04/Apr_Neon_Run_2026_01_28_EC-2.jpg
END:VEVENT
BEGIN:VEVENT
DTSTART;TZID=UTC:20260428T120000
DTEND;TZID=UTC:20260428T124500
DTSTAMP:20260423T085936
CREATED:20251125T211946Z
LAST-MODIFIED:20251125T212102Z
UID:10005019-1777377600-1777380300@gomdl.com
SUMMARY:Aqua Fit
DESCRIPTION:12:00pm – 12:45pm\, FSS Indoor Pool\, Bldg. 5901 Doughboy Loop\, JBMDL Dix \nCome workout during lunch. Water workout. Low impact using aerobic\, strength and toning exercises.  No swimming experience needed. Classes will be held on Tuesdays and Thursdays for 45 minutes. \nCost will be $4 a class.  \n609.562.2808.
URL:https://gomdl.com/event/aqua-fit/2026-04-28/
LOCATION:FSS Indoor Pool\, 5901 Doughboy Loop\, JBMDL Dix\, NJ\, 08640
CATEGORIES:Aquatics,Dix,Family
ATTACH;FMTTYPE=image/jpeg:https://gomdl.com/wp-content/uploads/2025/09/Aqua-Fit.jpg
END:VEVENT
BEGIN:VEVENT
DTSTART;TZID=UTC:20260428T130000
DTEND;TZID=UTC:20260428T140000
DTSTAMP:20260423T085936
CREATED:20260225T172346Z
LAST-MODIFIED:20260421T162851Z
UID:10006625-1777381200-1777384800@gomdl.com
SUMMARY:Lego Club
DESCRIPTION:1:00pm-2:00pm\, Library\, Bldg. 2603 Tuskegee Airmen Avenue\, JBMDL McGuire \nOpen to children 5+.  Parents requested to remain in the program area.  Show off your building skills at our monthly Lego Club.  Challenges will change monthly.  Registration opens 2 weeks before the program and is recommended but walk ins are welcome. \nRegister in person or by calling the library. 609.754.2079
URL:https://gomdl.com/event/lego-club-4/2026-04-28/
LOCATION:FSS Library\, 2603 W Tuskegee Airmen Ave\, JBMDL McGuire\, NJ\, 08641
CATEGORIES:Library,McGuire
ATTACH;FMTTYPE=image/jpeg:https://gomdl.com/wp-content/uploads/2024/11/2148490644.jpg
END:VEVENT
BEGIN:VEVENT
DTSTART;TZID=UTC:20260428T130000
DTEND;TZID=UTC:20260428T150000
DTSTAMP:20260423T085936
CREATED:20260422T164222Z
LAST-MODIFIED:20260422T164439Z
UID:10006972-1777381200-1777388400@gomdl.com
SUMMARY:Homeschool Hangout
DESCRIPTION:1:00pm-3:00pm\, DROP IN\, Library\, Bldg. 2603 Tuskegee Airmen Avenue\, JBMDL McGuire \nOpen to Homeschool Families of all ages. Drop in to hang out with your Homeschool friends and participate in a fun activity.  Activities will be available in separate areas of the library for ages 6 & under\, 7-12 and 13+. Stop by for a few minutes or stay the whole time! No registration needed! \n609.754.2079
URL:https://gomdl.com/event/homeschool-hangout-4-2/2026-04-28/
LOCATION:FSS Library\, 2603 W Tuskegee Airmen Ave\, JBMDL McGuire\, NJ\, 08641
CATEGORIES:Library,McGuire,Youth,Youth Programs
ATTACH;FMTTYPE=image/png:https://gomdl.com/wp-content/uploads/2026/02/Untitled-design-1.png
END:VEVENT
BEGIN:VEVENT
DTSTART;TZID=UTC:20260428T150000
DTEND;TZID=UTC:20260428T173000
DTSTAMP:20260423T085936
CREATED:20251126T132729Z
LAST-MODIFIED:20251126T132729Z
UID:10005405-1777388400-1777397400@gomdl.com
SUMMARY:Swim Lessons Tuesday and Thursday
DESCRIPTION:3:00 pm – 5:30 pm – Indoor Pool\, Bldg. 5901 Doughboy Loop JBMDL Dix \nEight 30-minute sessions will take place on Mondays and Wednesdays or Tuesday and Thursday. Lessons are for ages 6 months to adults. \nStop by the Indoor Pool or give us a call at 609.562.2808 to get more information. Registration will start on Dec 15 \nLessons are $145 per person
URL:https://gomdl.com/event/swim-lessons-tuesday-and-thursday/2026-04-28/
LOCATION:FSS Indoor Pool\, 5901 Doughboy Loop\, JBMDL Dix\, NJ\, 08640
CATEGORIES:Aquatics,Dix
ATTACH;FMTTYPE=image/jpeg:https://gomdl.com/wp-content/uploads/2025/09/Swim-Lessons.jpg
END:VEVENT
BEGIN:VEVENT
DTSTART;TZID=UTC:20260428T173000
DTEND;TZID=UTC:20260428T200000
DTSTAMP:20260423T085936
CREATED:20251125T210958Z
LAST-MODIFIED:20251125T210958Z
UID:10004815-1777397400-1777406400@gomdl.com
SUMMARY:Beginner Adult Pottery Class
DESCRIPTION:5:30-8:00 PM\, Arts and Crafts Center \nPottery class for adults ages 18+. We will explore and create with clay with basic and advanced hand-building techniques and will learn some basic wheel throwing. Limited space available. \nRegister at 609-562-5771 \n$240 for the class + $40 for unlimited clay while class is occurring
URL:https://gomdl.com/event/beginner-adult-pottery-class/2026-04-28/
LOCATION:FSS Arts & Crafts Center\, 6039 Philadelphia St\, JBMDL Dix\, NJ\, 08640
CATEGORIES:Arts & Crafts,Dix
END:VEVENT
BEGIN:VEVENT
DTSTART;TZID=UTC:20260429T120000
DTEND;TZID=UTC:20260429T130000
DTSTAMP:20260423T085936
CREATED:20260324T201634Z
LAST-MODIFIED:20260417T201445Z
UID:10006888-1777464000-1777467600@gomdl.com
SUMMARY:“MURPH” Prep Class
DESCRIPTION:WHERE/LOCATION: Griffith Field House \nTIME: 12:00pm-1:00pm & 4:00pm-5:00pm\n \nThis class is designed to prep for the Hero WOD the MURPH completed Memorial Day weekend.  This will be an ongoing prep class the month leading up to the MURPH event.  Come out to as many or as few as you would like.  Build the necessary endurance and learn the fundamentals of completing the historic WOD. \n609.562.4888
URL:https://gomdl.com/event/murph-prep-class/2026-04-29/
LOCATION:FSS Griffith Field House\, 6053 Millville Ave\, JBMDL Dix\, NJ\, 08640
CATEGORIES:Dix
END:VEVENT
BEGIN:VEVENT
DTSTART;TZID=UTC:20260429T120000
DTEND;TZID=UTC:20260429T130000
DTSTAMP:20260423T085936
CREATED:20260417T201218Z
LAST-MODIFIED:20260417T201218Z
UID:10006697-1777464000-1777467600@gomdl.com
SUMMARY:“MURPH” Prep Class
DESCRIPTION:WHERE/LOCATION: Griffith Field House \nTIME: 12:00pm-1:00pm & 4:00pm-5:00pm\n \nThis class is designed to prep for the Hero WOD the MURPH completed Memorial Day weekend.  This will be an ongoing prep class the month leading up to the MURPH event.  Come out to as many or as few as you would like.  Build the necessary endurance and learn the fundamentals of completing the historic WOD. \n609.562.4888
URL:https://gomdl.com/event/murph-prep-class-2/
LOCATION:FSS Griffith Field House\, 6053 Millville Ave\, JBMDL Dix\, NJ\, 08640
CATEGORIES:Dix
END:VEVENT
BEGIN:VEVENT
DTSTART;TZID=UTC:20260429T120000
DTEND;TZID=UTC:20260429T140000
DTSTAMP:20260423T085936
CREATED:20251125T211542Z
LAST-MODIFIED:20251208T205628Z
UID:10004934-1777464000-1777471200@gomdl.com
SUMMARY:Artful Escapes
DESCRIPTION:12:00-2:00 PM\, Arts and Crafts Center \nBored at home while the kids are at school? Come join us to listen to some relaxing music and visit with others in our area as we explore some basic wheel throwing and hand-building techniques. Limited space available \nRegister at 609-562-5771 \n$180 per person\, Supplies not included
URL:https://gomdl.com/event/artful-escapes/2026-04-29/
LOCATION:FSS Arts & Crafts Center\, 6039 Philadelphia St\, JBMDL Dix\, NJ\, 08640
CATEGORIES:Arts & Crafts,Dix
END:VEVENT
BEGIN:VEVENT
DTSTART;TZID=UTC:20260429T150000
DTEND;TZID=UTC:20260429T173000
DTSTAMP:20260423T085936
CREATED:20251126T132429Z
LAST-MODIFIED:20251126T132429Z
UID:10005181-1777474800-1777483800@gomdl.com
SUMMARY:Swim Lessons Mondays and Wednesdays
DESCRIPTION:3:00 pm – 5:30 pm – Indoor Pool\, Bldg. 5901 Doughboy Loop JBMDL Dix \nEight 30-minute sessions will take place on Mondays and Wednesdays or Tuesday and Thursday. Lessons are for ages 6 months to adults. \nStop by the Indoor Pool or give us a call at 609.562.2808 to get more information. Registration will start on Dec 15 \nLessons are $145 per person
URL:https://gomdl.com/event/swim-lessons-mondays-and-wednesdays/2026-04-29/
LOCATION:FSS Indoor Pool\, 5901 Doughboy Loop\, JBMDL Dix\, NJ\, 08640
CATEGORIES:Aquatics,Dix
ATTACH;FMTTYPE=image/jpeg:https://gomdl.com/wp-content/uploads/2025/09/Swim-Lessons.jpg
END:VEVENT
BEGIN:VEVENT
DTSTART;TZID=UTC:20260429T170000
DTEND;TZID=UTC:20260429T210000
DTSTAMP:20260423T085936
CREATED:20250919T192717Z
LAST-MODIFIED:20260416T164321Z
UID:10006646-1777482000-1777496400@gomdl.com
SUMMARY:Wacky Wednesday Bowling
DESCRIPTION:Presented by FSS Bowling Center Dix \nBring the family or bring a friend for Wacky Wednesday! Wacky Discounted Bowling starts at 5pm. Buy one game and get one free!\nBowl a strike with the Red Pin as the Head Pin and receive a free game card for another evening of your choice!
URL:https://gomdl.com/event/wacky-wednesday-bowling-2/2026-04-29/
LOCATION:FSS Bowling Center Dix\, 6054 Doughboy Loop\, JBMDL Dix\, NJ\, 08641
CATEGORIES:Bowling,Bowling Center Dix,Dix,Fun,Hot Events
ATTACH;FMTTYPE=image/png:https://gomdl.com/wp-content/uploads/2025/03/Wacky-Wednesdays-EC.png
END:VEVENT
BEGIN:VEVENT
DTSTART;TZID=UTC:20260430T083000
DTEND;TZID=UTC:20260430T163000
DTSTAMP:20260423T085936
CREATED:20260421T184459Z
LAST-MODIFIED:20260421T184459Z
UID:10006910-1777537800-1777566600@gomdl.com
SUMMARY:Kayak Rancocas Creek
DESCRIPTION:Join Outdoor Recreation as you paddle a historic waterway that played a role in the American Revolution. Enjoy fresh air\, scenic views\, and an unforgettable outdoor experience. \nTrip Details\n📍 Depart from 87FSS Outdoor Recreation🕣 Departure: 8:30 AM🕓 Return: No later than 4:00 PM📅 Saturday\, May 30 \nWhat’s Included\n\nKayak rental\nSafety equipment\nTransportation\n\nWhat to Bring\n\nPicnic lunch\nWater\nComfortable outdoor clothing\n\nImportant Information\n\nAll participants must be able to swim independently\nParticipants 17 & under must be accompanied by a legal adult\nLimited to the first 12 participants to sign up\nDetailed trip information sheet provided at registration\n\nWeather Policy\nThis trip will proceed rain or shine. However\, thunderstorms or lightning will result in cancellation. \nPlease note: Departure time may change depending on tide levels. \nReserve your spot early and experience history from the water! 🚣‍♀️✨
URL:https://gomdl.com/event/kayak-rancocas-creek/
LOCATION:NJ
ATTACH;FMTTYPE=image/jpeg:https://gomdl.com/wp-content/uploads/2026/04/May_Rancocas_Kayaking_2026_02_10_EC.jpg
END:VEVENT
BEGIN:VEVENT
DTSTART;TZID=UTC:20260430T100000
DTEND;TZID=UTC:20260430T103000
DTSTAMP:20260423T085936
CREATED:20260210T193559Z
LAST-MODIFIED:20260416T180625Z
UID:10006510-1777543200-1777545000@gomdl.com
SUMMARY:Family Story Time
DESCRIPTION:Bring your little ones for a fun and engaging Story Time experience! Designed for families with children ages 5 and under\, each session features a new theme filled with stories\, jokes\, poems\, and interactive fun that sparks imagination and a love of reading. \nIt’s the perfect way to enjoy quality time together while introducing young minds to the magic of books. \n📞 Questions? Call 609-754-2079
URL:https://gomdl.com/event/family-story-time-6/2026-04-30/
LOCATION:FSS Library\, 2603 W Tuskegee Airmen Ave\, JBMDL McGuire\, NJ\, 08641
CATEGORIES:Library,McGuire
ATTACH;FMTTYPE=image/jpeg:https://gomdl.com/wp-content/uploads/2024/09/Copy-of-Copy-of-OCTOBER-.jpg
END:VEVENT
BEGIN:VEVENT
DTSTART;TZID=UTC:20260430T110000
DTEND;TZID=UTC:20260430T113000
DTSTAMP:20260423T085936
CREATED:20251125T205412Z
LAST-MODIFIED:20251125T205412Z
UID:10004215-1777546800-1777548600@gomdl.com
SUMMARY:3–5-year-old Home School Pottery Class
DESCRIPTION:11:00-11:30 AM\, Arts and Crafts Center \nPreschool pottery class for children ages 3–5-year-olds; we will explore and create with clay. Limited space available \nRegister at 609-562-5771 \n$40 per child\, supplies included
URL:https://gomdl.com/event/3-5-year-old-home-school-pottery-class/2026-04-30/
LOCATION:FSS Arts & Crafts Center\, 6039 Philadelphia St\, JBMDL Dix\, NJ\, 08640
CATEGORIES:Arts & Crafts,Dix,Fun,Youth
END:VEVENT
BEGIN:VEVENT
DTSTART;TZID=UTC:20260430T114500
DTEND;TZID=UTC:20260430T124500
DTSTAMP:20260423T085936
CREATED:20251125T210141Z
LAST-MODIFIED:20251125T210141Z
UID:10004455-1777549500-1777553100@gomdl.com
SUMMARY:6–9-year-old Home School Pottery Class
DESCRIPTION:11:45-12:45 PM\, Arts and Crafts Center \nSchool-Age pottery class for children ages 6–9-year-olds; we will explore and create with clay with basic and advanced hand-building techniques. Limited space available \nRegister at 609-562-5771 \n$80 per child\, supplies included
URL:https://gomdl.com/event/6-9-year-old-home-school-pottery-class/2026-04-30/
LOCATION:FSS Arts & Crafts Center\, 6039 Philadelphia St\, JBMDL Dix\, NJ\, 08640
CATEGORIES:Arts & Crafts,Dix,Youth
END:VEVENT
BEGIN:VEVENT
DTSTART;TZID=UTC:20260430T120000
DTEND;TZID=UTC:20260430T124500
DTSTAMP:20260423T085936
CREATED:20251125T211946Z
LAST-MODIFIED:20251125T212102Z
UID:10005020-1777550400-1777553100@gomdl.com
SUMMARY:Aqua Fit
DESCRIPTION:12:00pm – 12:45pm\, FSS Indoor Pool\, Bldg. 5901 Doughboy Loop\, JBMDL Dix \nCome workout during lunch. Water workout. Low impact using aerobic\, strength and toning exercises.  No swimming experience needed. Classes will be held on Tuesdays and Thursdays for 45 minutes. \nCost will be $4 a class.  \n609.562.2808.
URL:https://gomdl.com/event/aqua-fit/2026-04-30/
LOCATION:FSS Indoor Pool\, 5901 Doughboy Loop\, JBMDL Dix\, NJ\, 08640
CATEGORIES:Aquatics,Dix,Family
ATTACH;FMTTYPE=image/jpeg:https://gomdl.com/wp-content/uploads/2025/09/Aqua-Fit.jpg
END:VEVENT
END:VCALENDAR