BEGIN:VCALENDAR
VERSION:2.0
PRODID:-//JB McGuire-Dix-Lakehurst - ECPv6.15.20//NONSGML v1.0//EN
CALSCALE:GREGORIAN
METHOD:PUBLISH
X-WR-CALNAME:JB McGuire-Dix-Lakehurst
X-ORIGINAL-URL:https://gomdl.com
X-WR-CALDESC:Events for JB McGuire-Dix-Lakehurst
REFRESH-INTERVAL;VALUE=DURATION:PT1H
X-Robots-Tag:noindex
X-PUBLISHED-TTL:PT1H
BEGIN:VTIMEZONE
TZID:UTC
BEGIN:STANDARD
TZOFFSETFROM:+0000
TZOFFSETTO:+0000
TZNAME:UTC
DTSTART:20250101T000000
END:STANDARD
END:VTIMEZONE
BEGIN:VEVENT
DTSTART;TZID=UTC:20260512T100000
DTEND;TZID=UTC:20260512T110000
DTSTAMP:20260423T180429
CREATED:20251211T205237Z
LAST-MODIFIED:20260422T164755Z
UID:10006992-1778580000-1778583600@gomdl.com
SUMMARY:Virtual Pre-Arrival Orientation (via TEAMS)
DESCRIPTION:First Session:  10:00am – 11:00am EST\nSecond Session: 6:00pm – 7:00pm EST \nIf JBMDL is your next duty station\, this workshop is for you! During this workshop\, we will cover several services\, programs\, and contact information you may need to know BEFORE you PCS. Pre-registration is required. \nCall the Military & Family Readiness Center for more information at 609.754.3154.
URL:https://gomdl.com/event/virtual-pre-arrival-orientation-via-teams-2/2026-05-12/
LOCATION:FSS Military & Family Readiness Center\, 3435 Broidy Road\, JBMDL McGuire\, NJ\, 08641
CATEGORIES:McGuire,Military and Family Readiness Center
END:VEVENT
BEGIN:VEVENT
DTSTART;TZID=UTC:20260609T100000
DTEND;TZID=UTC:20260609T110000
DTSTAMP:20260423T180429
CREATED:20251211T205237Z
LAST-MODIFIED:20260422T164755Z
UID:10006993-1780999200-1781002800@gomdl.com
SUMMARY:Virtual Pre-Arrival Orientation (via TEAMS)
DESCRIPTION:First Session:  10:00am – 11:00am EST\nSecond Session: 6:00pm – 7:00pm EST \nIf JBMDL is your next duty station\, this workshop is for you! During this workshop\, we will cover several services\, programs\, and contact information you may need to know BEFORE you PCS. Pre-registration is required. \nCall the Military & Family Readiness Center for more information at 609.754.3154.
URL:https://gomdl.com/event/virtual-pre-arrival-orientation-via-teams-2/2026-06-09/
LOCATION:FSS Military & Family Readiness Center\, 3435 Broidy Road\, JBMDL McGuire\, NJ\, 08641
CATEGORIES:McGuire,Military and Family Readiness Center
END:VEVENT
BEGIN:VEVENT
DTSTART;TZID=UTC:20260714T100000
DTEND;TZID=UTC:20260714T110000
DTSTAMP:20260423T180429
CREATED:20251211T205237Z
LAST-MODIFIED:20260422T164755Z
UID:10006994-1784023200-1784026800@gomdl.com
SUMMARY:Virtual Pre-Arrival Orientation (via TEAMS)
DESCRIPTION:First Session:  10:00am – 11:00am EST\nSecond Session: 6:00pm – 7:00pm EST \nIf JBMDL is your next duty station\, this workshop is for you! During this workshop\, we will cover several services\, programs\, and contact information you may need to know BEFORE you PCS. Pre-registration is required. \nCall the Military & Family Readiness Center for more information at 609.754.3154.
URL:https://gomdl.com/event/virtual-pre-arrival-orientation-via-teams-2/2026-07-14/
LOCATION:FSS Military & Family Readiness Center\, 3435 Broidy Road\, JBMDL McGuire\, NJ\, 08641
CATEGORIES:McGuire,Military and Family Readiness Center
END:VEVENT
BEGIN:VEVENT
DTSTART;TZID=UTC:20260811T100000
DTEND;TZID=UTC:20260811T110000
DTSTAMP:20260423T180429
CREATED:20251211T205237Z
LAST-MODIFIED:20260422T164755Z
UID:10006995-1786442400-1786446000@gomdl.com
SUMMARY:Virtual Pre-Arrival Orientation (via TEAMS)
DESCRIPTION:First Session:  10:00am – 11:00am EST\nSecond Session: 6:00pm – 7:00pm EST \nIf JBMDL is your next duty station\, this workshop is for you! During this workshop\, we will cover several services\, programs\, and contact information you may need to know BEFORE you PCS. Pre-registration is required. \nCall the Military & Family Readiness Center for more information at 609.754.3154.
URL:https://gomdl.com/event/virtual-pre-arrival-orientation-via-teams-2/2026-08-11/
LOCATION:FSS Military & Family Readiness Center\, 3435 Broidy Road\, JBMDL McGuire\, NJ\, 08641
CATEGORIES:McGuire,Military and Family Readiness Center
END:VEVENT
BEGIN:VEVENT
DTSTART;TZID=UTC:20260908T100000
DTEND;TZID=UTC:20260908T110000
DTSTAMP:20260423T180429
CREATED:20251211T205237Z
LAST-MODIFIED:20260422T164755Z
UID:10006996-1788861600-1788865200@gomdl.com
SUMMARY:Virtual Pre-Arrival Orientation (via TEAMS)
DESCRIPTION:First Session:  10:00am – 11:00am EST\nSecond Session: 6:00pm – 7:00pm EST \nIf JBMDL is your next duty station\, this workshop is for you! During this workshop\, we will cover several services\, programs\, and contact information you may need to know BEFORE you PCS. Pre-registration is required. \nCall the Military & Family Readiness Center for more information at 609.754.3154.
URL:https://gomdl.com/event/virtual-pre-arrival-orientation-via-teams-2/2026-09-08/
LOCATION:FSS Military & Family Readiness Center\, 3435 Broidy Road\, JBMDL McGuire\, NJ\, 08641
CATEGORIES:McGuire,Military and Family Readiness Center
END:VEVENT
BEGIN:VEVENT
DTSTART;TZID=UTC:20261013T100000
DTEND;TZID=UTC:20261013T110000
DTSTAMP:20260423T180429
CREATED:20251211T205237Z
LAST-MODIFIED:20260422T164755Z
UID:10006997-1791885600-1791889200@gomdl.com
SUMMARY:Virtual Pre-Arrival Orientation (via TEAMS)
DESCRIPTION:First Session:  10:00am – 11:00am EST\nSecond Session: 6:00pm – 7:00pm EST \nIf JBMDL is your next duty station\, this workshop is for you! During this workshop\, we will cover several services\, programs\, and contact information you may need to know BEFORE you PCS. Pre-registration is required. \nCall the Military & Family Readiness Center for more information at 609.754.3154.
URL:https://gomdl.com/event/virtual-pre-arrival-orientation-via-teams-2/2026-10-13/
LOCATION:FSS Military & Family Readiness Center\, 3435 Broidy Road\, JBMDL McGuire\, NJ\, 08641
CATEGORIES:McGuire,Military and Family Readiness Center
END:VEVENT
BEGIN:VEVENT
DTSTART;TZID=UTC:20261110T100000
DTEND;TZID=UTC:20261110T110000
DTSTAMP:20260423T180429
CREATED:20251211T205237Z
LAST-MODIFIED:20260422T164755Z
UID:10006998-1794304800-1794308400@gomdl.com
SUMMARY:Virtual Pre-Arrival Orientation (via TEAMS)
DESCRIPTION:First Session:  10:00am – 11:00am EST\nSecond Session: 6:00pm – 7:00pm EST \nIf JBMDL is your next duty station\, this workshop is for you! During this workshop\, we will cover several services\, programs\, and contact information you may need to know BEFORE you PCS. Pre-registration is required. \nCall the Military & Family Readiness Center for more information at 609.754.3154.
URL:https://gomdl.com/event/virtual-pre-arrival-orientation-via-teams-2/2026-11-10/
LOCATION:FSS Military & Family Readiness Center\, 3435 Broidy Road\, JBMDL McGuire\, NJ\, 08641
CATEGORIES:McGuire,Military and Family Readiness Center
END:VEVENT
BEGIN:VEVENT
DTSTART;TZID=UTC:20261208T100000
DTEND;TZID=UTC:20261208T110000
DTSTAMP:20260423T180429
CREATED:20251211T205237Z
LAST-MODIFIED:20260422T164755Z
UID:10006999-1796724000-1796727600@gomdl.com
SUMMARY:Virtual Pre-Arrival Orientation (via TEAMS)
DESCRIPTION:First Session:  10:00am – 11:00am EST\nSecond Session: 6:00pm – 7:00pm EST \nIf JBMDL is your next duty station\, this workshop is for you! During this workshop\, we will cover several services\, programs\, and contact information you may need to know BEFORE you PCS. Pre-registration is required. \nCall the Military & Family Readiness Center for more information at 609.754.3154.
URL:https://gomdl.com/event/virtual-pre-arrival-orientation-via-teams-2/2026-12-08/
LOCATION:FSS Military & Family Readiness Center\, 3435 Broidy Road\, JBMDL McGuire\, NJ\, 08641
CATEGORIES:McGuire,Military and Family Readiness Center
END:VEVENT
BEGIN:VEVENT
DTSTART;TZID=UTC:20270112T100000
DTEND;TZID=UTC:20270112T110000
DTSTAMP:20260423T180429
CREATED:20251211T205237Z
LAST-MODIFIED:20260422T164755Z
UID:10007000-1799748000-1799751600@gomdl.com
SUMMARY:Virtual Pre-Arrival Orientation (via TEAMS)
DESCRIPTION:First Session:  10:00am – 11:00am EST\nSecond Session: 6:00pm – 7:00pm EST \nIf JBMDL is your next duty station\, this workshop is for you! During this workshop\, we will cover several services\, programs\, and contact information you may need to know BEFORE you PCS. Pre-registration is required. \nCall the Military & Family Readiness Center for more information at 609.754.3154.
URL:https://gomdl.com/event/virtual-pre-arrival-orientation-via-teams-2/2027-01-12/
LOCATION:FSS Military & Family Readiness Center\, 3435 Broidy Road\, JBMDL McGuire\, NJ\, 08641
CATEGORIES:McGuire,Military and Family Readiness Center
END:VEVENT
BEGIN:VEVENT
DTSTART;TZID=UTC:20270209T100000
DTEND;TZID=UTC:20270209T110000
DTSTAMP:20260423T180429
CREATED:20251211T205237Z
LAST-MODIFIED:20260422T164755Z
UID:10007001-1802167200-1802170800@gomdl.com
SUMMARY:Virtual Pre-Arrival Orientation (via TEAMS)
DESCRIPTION:First Session:  10:00am – 11:00am EST\nSecond Session: 6:00pm – 7:00pm EST \nIf JBMDL is your next duty station\, this workshop is for you! During this workshop\, we will cover several services\, programs\, and contact information you may need to know BEFORE you PCS. Pre-registration is required. \nCall the Military & Family Readiness Center for more information at 609.754.3154.
URL:https://gomdl.com/event/virtual-pre-arrival-orientation-via-teams-2/2027-02-09/
LOCATION:FSS Military & Family Readiness Center\, 3435 Broidy Road\, JBMDL McGuire\, NJ\, 08641
CATEGORIES:McGuire,Military and Family Readiness Center
END:VEVENT
BEGIN:VEVENT
DTSTART;TZID=UTC:20270309T100000
DTEND;TZID=UTC:20270309T110000
DTSTAMP:20260423T180429
CREATED:20251211T205237Z
LAST-MODIFIED:20260422T164755Z
UID:10007002-1804586400-1804590000@gomdl.com
SUMMARY:Virtual Pre-Arrival Orientation (via TEAMS)
DESCRIPTION:First Session:  10:00am – 11:00am EST\nSecond Session: 6:00pm – 7:00pm EST \nIf JBMDL is your next duty station\, this workshop is for you! During this workshop\, we will cover several services\, programs\, and contact information you may need to know BEFORE you PCS. Pre-registration is required. \nCall the Military & Family Readiness Center for more information at 609.754.3154.
URL:https://gomdl.com/event/virtual-pre-arrival-orientation-via-teams-2/2027-03-09/
LOCATION:FSS Military & Family Readiness Center\, 3435 Broidy Road\, JBMDL McGuire\, NJ\, 08641
CATEGORIES:McGuire,Military and Family Readiness Center
END:VEVENT
BEGIN:VEVENT
DTSTART;TZID=UTC:20270413T100000
DTEND;TZID=UTC:20270413T110000
DTSTAMP:20260423T180429
CREATED:20251211T205237Z
LAST-MODIFIED:20260422T164755Z
UID:10007003-1807610400-1807614000@gomdl.com
SUMMARY:Virtual Pre-Arrival Orientation (via TEAMS)
DESCRIPTION:First Session:  10:00am – 11:00am EST\nSecond Session: 6:00pm – 7:00pm EST \nIf JBMDL is your next duty station\, this workshop is for you! During this workshop\, we will cover several services\, programs\, and contact information you may need to know BEFORE you PCS. Pre-registration is required. \nCall the Military & Family Readiness Center for more information at 609.754.3154.
URL:https://gomdl.com/event/virtual-pre-arrival-orientation-via-teams-2/2027-04-13/
LOCATION:FSS Military & Family Readiness Center\, 3435 Broidy Road\, JBMDL McGuire\, NJ\, 08641
CATEGORIES:McGuire,Military and Family Readiness Center
END:VEVENT
END:VCALENDAR