BEGIN:VCALENDAR
VERSION:2.0
PRODID:-//JB McGuire-Dix-Lakehurst - ECPv6.15.20//NONSGML v1.0//EN
CALSCALE:GREGORIAN
METHOD:PUBLISH
X-ORIGINAL-URL:https://gomdl.com
X-WR-CALDESC:Events for JB McGuire-Dix-Lakehurst
REFRESH-INTERVAL;VALUE=DURATION:PT1H
X-Robots-Tag:noindex
X-PUBLISHED-TTL:PT1H
BEGIN:VTIMEZONE
TZID:UTC
BEGIN:STANDARD
TZOFFSETFROM:+0000
TZOFFSETTO:+0000
TZNAME:UTC
DTSTART:20250101T000000
END:STANDARD
END:VTIMEZONE
BEGIN:VEVENT
DTSTART;TZID=UTC:20260204T100000
DTEND;TZID=UTC:20260204T110000
DTSTAMP:20260423T202847
CREATED:20251209T204229Z
LAST-MODIFIED:20260423T142957Z
UID:10006330-1770199200-1770202800@gomdl.com
SUMMARY:EFMP: What’s In It for Me?
DESCRIPTION:Join us for an informative workshop designed to help military families better understand the many services\, support systems\, and resources available through EFMP. \nThis session will break down the different components of the program and explain how each team works together to support you and your family’s unique needs. \n✨ Learn more about the roles of: \n• EFMP Family Support Coordinators\n• Special Needs Coordinators\n• Assignments Support\n• Community Partners and Resources \nGain valuable insight into how to maximize your benefits\, access local\, state\, and federal resources\, and feel more confident navigating available support programs. \nTo register call 609.754.3154
URL:https://gomdl.com/event/efmp-whats-in-it-for-me/2026-02-04/
LOCATION:FSS Military & Family Readiness Center\, 3435 Broidy Road\, JBMDL McGuire\, NJ\, 08641
CATEGORIES:McGuire,Military and Family Readiness Center
ATTACH;FMTTYPE=image/jpeg:https://gomdl.com/wp-content/uploads/2025/12/Exceptional_Family_Member_042326.jpg
END:VEVENT
END:VCALENDAR