BEGIN:VCALENDAR
VERSION:2.0
PRODID:-//JB McGuire-Dix-Lakehurst - ECPv6.15.20//NONSGML v1.0//EN
CALSCALE:GREGORIAN
METHOD:PUBLISH
X-WR-CALNAME:JB McGuire-Dix-Lakehurst
X-ORIGINAL-URL:https://gomdl.com
X-WR-CALDESC:Events for JB McGuire-Dix-Lakehurst
REFRESH-INTERVAL;VALUE=DURATION:PT1H
X-Robots-Tag:noindex
X-PUBLISHED-TTL:PT1H
BEGIN:VTIMEZONE
TZID:UTC
BEGIN:STANDARD
TZOFFSETFROM:+0000
TZOFFSETTO:+0000
TZNAME:UTC
DTSTART:20250101T000000
END:STANDARD
END:VTIMEZONE
BEGIN:VEVENT
DTSTART;TZID=UTC:20260401T163000
DTEND;TZID=UTC:20260401T173000
DTSTAMP:20260423T183158
CREATED:20251209T203725Z
LAST-MODIFIED:20260422T153421Z
UID:10006914-1775061000-1775064600@gomdl.com
SUMMARY:Teen Time
DESCRIPTION:4:30pm-5:30pm\, Library\, Bldg. 2603 Tuskegee Airmen Avenue\, JBMDL McGuire \nOpen to teens 13+.  Join us at the library for this new teen program.  Activities will change monthly but will include book discussions\, STEM activities\, crafts\, games and more! \n609.754.2079
URL:https://gomdl.com/event/teen-time-2/2026-04-01/
LOCATION:FSS Library\, 2603 W Tuskegee Airmen Ave\, JBMDL McGuire\, NJ\, 08641
CATEGORIES:Fun,Library,McGuire,Youth
ATTACH;FMTTYPE=image/jpeg:https://gomdl.com/wp-content/uploads/2025/12/April_Teen_Time_0422226.jpg
END:VEVENT
BEGIN:VEVENT
DTSTART;TZID=UTC:20260402T090000
DTEND;TZID=UTC:20260402T170000
DTSTAMP:20260423T183158
CREATED:20260210T192058Z
LAST-MODIFIED:20260323T200020Z
UID:10006652-1775120400-1775149200@gomdl.com
SUMMARY:Egg Hunt at the Library
DESCRIPTION:April 2: 9:00am-5:00pm & April 3: 9:00am-4:00pm\, Library\, Bldg. 2603 Tuskegee Airmen Avenue\, JBMDL McGuire \nOpen to everyone! Are you good at searching?! Come out and look for Easter eggs hidden throughout the library.  Bring your egg to the front desk to redeem a prize. Limit 2 eggs per person per visit. Prizes available for children\, teens and adults! \n609.754.2079
URL:https://gomdl.com/event/teen-time-3/2026-04-02/
LOCATION:FSS Library\, 2603 W Tuskegee Airmen Ave\, JBMDL McGuire\, NJ\, 08641
CATEGORIES:Library,McGuire,Youth
END:VEVENT
BEGIN:VEVENT
DTSTART;TZID=UTC:20260403T090000
DTEND;TZID=UTC:20260403T160000
DTSTAMP:20260423T183158
CREATED:20260210T192058Z
LAST-MODIFIED:20260323T200020Z
UID:10006653-1775206800-1775232000@gomdl.com
SUMMARY:Egg Hunt at the Library
DESCRIPTION:April 2: 9:00am-5:00pm & April 3: 9:00am-4:00pm\, Library\, Bldg. 2603 Tuskegee Airmen Avenue\, JBMDL McGuire \nOpen to everyone! Are you good at searching?! Come out and look for Easter eggs hidden throughout the library.  Bring your egg to the front desk to redeem a prize. Limit 2 eggs per person per visit. Prizes available for children\, teens and adults! \n609.754.2079
URL:https://gomdl.com/event/teen-time-3/2026-04-03/
LOCATION:FSS Library\, 2603 W Tuskegee Airmen Ave\, JBMDL McGuire\, NJ\, 08641
CATEGORIES:Library,McGuire,Youth
END:VEVENT
BEGIN:VEVENT
DTSTART;TZID=UTC:20260404T110000
DTEND;TZID=UTC:20260404T120000
DTSTAMP:20260423T183158
CREATED:20260210T194031Z
LAST-MODIFIED:20260416T171008Z
UID:10006564-1775300400-1775304000@gomdl.com
SUMMARY:Saturday Lego Club
DESCRIPTION:11:00am-12:00pm\, Library\, Bldg. 2603 Tuskegee Airmen Avenue\, JBMDL McGuire \nOpen to children 5+.  Parents requested to remain in the program area.  Show off your building skills at our monthly Saturday Lego Club.  Challenges will change monthly. \nRegistration opens 2 weeks before the program and is recommended but walk ins are welcome.
URL:https://gomdl.com/event/saturday-lego-club-4/2026-04-04/
LOCATION:FSS Library\, 2603 W Tuskegee Airmen Ave\, JBMDL McGuire\, NJ\, 08641
CATEGORIES:Library,McGuire,Youth,Youth Programs
ATTACH;FMTTYPE=image/jpeg:https://gomdl.com/wp-content/uploads/2024/10/GettyImages-458669479.jpg
END:VEVENT
END:VCALENDAR